BEGIN:VCALENDAR
VERSION:2.0
PRODID:-//Inspecco//Calendar Event//EN
CALSCALE:GREGORIAN
METHOD:PUBLISH
BEGIN:VEVENT
UID:0a075cfe-6e57-493d-bf19-594e0052cbb4@openai.local
DTSTAMP:20260421T072618Z
DTSTART;VALUE=DATE:20260505
DTEND;VALUE=DATE:20260510
SUMMARY:INSPECCO | SAHA 2026 Fuarı
DESCRIPTION:INSPECCO\, Saha 2026 Fuarında!\n05 – 09 Mayıs 2026 | SALON 3\, 
 Stand 3C-05\, Istanbul Fuar Merkezi\n\nSAHA EXPO savunma havacılık ve uzay
  sanayiinde faaliyet gösteren firmalar\, yüksek hassasiyetli üretim yapan 
 şirketler\, Ar-Ge merkezleri\, akademik kuruluşlar ve kamu temsilcileri iç
 in önemli iş ve iş birliği fırsatları sunmaktadır. Aynı zamanda\, geleceği
 n teknolojilerini yakından görmek\, sektördeki yenilikleri takip etmek ve 
 güçlü iş bağlantıları kurmak isteyen tüm profesyoneller için kaçırılmaması
  gereken bir etkinliktir.\n\nInspecco standında\; havacılık ve savunma san
 ayiine yönelik denetim ve kalite kontrol alanındaki en ileri teknolojileri
  yakından keşfedin. Kritik üretim süreçlerinizde hassasiyeti artırın\, mal
 iyetleri optimize edin ve üstün kaliteyi güvence altına alın.
LOCATION:Yeşilköy Istanbul\, Fuar Merkezi\, 34149 Bakırköy/İstanbul
STATUS:CONFIRMED
TRANSP:TRANSPARENT
END:VEVENT
END:VCALENDAR
